BEGIN:VCALENDAR
VERSION:2.0
PRODID:-//Kulvio Event Calendar//kulvio.de//
CALSCALE:GREGORIAN
METHOD:PUBLISH
BEGIN:VEVENT
SUMMARY:Ingo Oschmann – HerzScherz
DTSTART:20260621T160000Z
DTEND:20260621T183000Z
DTSTAMP:20260423T023155Z
UID:kulvio-event-3327@kulvio.de
CATEGORIES:Comedy,Show
CREATED:20260422T083525Z
DESCRIPTION:Der Comedian und Zauberkünstler Ingo Oschmann präsentiert se
 in Programm HerzScherz im Hofgarten Kabarett Aschaffenburg. Oschmann verbi
 ndet in seiner Show Comedy mit verblüffender Zauberkunst und Mentalmagie.
  Sein Markenzeichen ist die charmante Einbindung des Publikums in seine Nu
 mmern\, die den Abend zu einem interaktiven Erlebnis macht.
GEO:49.974838;9.154287
LAST-MODIFIED:20260422T083647Z
LOCATION:Hofgarten Kabarett\, Hofgartenstraße 1a\, 63739\, Aschaffenburg
STATUS:CONFIRMED
URL:https://kulvio.de/event/3327
END:VEVENT
END:VCALENDAR
