BEGIN:VCALENDAR
VERSION:2.0
PRODID:-//Kulvio Event Calendar//kulvio.de//
CALSCALE:GREGORIAN
METHOD:PUBLISH
BEGIN:VEVENT
SUMMARY:Samantha Fish – Paper Doll Live 2026
DTSTART:20260701T180000Z
DTEND:20260701T210000Z
DTSTAMP:20260423T022848Z
UID:kulvio-event-3328@kulvio.de
CATEGORIES:Konzert
CREATED:20260422T083525Z
DESCRIPTION:Die amerikanische Blues-Rock-Sängerin und Gitarristin Samanth
 a Fish spielt im Colos-Saal Aschaffenburg. Fish hat sich als eine der aufr
 egendsten Stimmen des modernen Blues etabliert und verbindet kraftvollen G
 esang mit virtuosem Gitarrenspiel. Ihre Live-Shows sind für ihre Energie 
 und Intensität bekannt und haben ihr eine treue Fangemeinde weltweit eing
 ebracht.
GEO:49.97585;9.149222
LAST-MODIFIED:20260422T083647Z
LOCATION:Colos-Saal\, Roßmarkt 19\, 63739\, Aschaffenburg
STATUS:CONFIRMED
URL:https://kulvio.de/event/3328
END:VEVENT
END:VCALENDAR
