BEGIN:VCALENDAR
VERSION:2.0
PRODID:-//Kulvio Event Calendar//kulvio.de//
CALSCALE:GREGORIAN
METHOD:PUBLISH
BEGIN:VEVENT
SUMMARY:Afrob & Ferris MC – Live 2026
DTSTART:20260702T180000Z
DTEND:20260702T210000Z
DTSTAMP:20260423T022943Z
UID:kulvio-event-3329@kulvio.de
CATEGORIES:Konzert
CREATED:20260422T083525Z
DESCRIPTION:Die deutschen Hip-Hop-Künstler Afrob und Ferris MC treten gem
 einsam im Colos-Saal Aschaffenburg auf. Beide gehören seit den späten 19
 90er Jahren zum Kern der deutschen Hip-Hop-Szene. Afrob ist als Mitglied d
 er Freundeskreis-Crew bekannt\, Ferris MC als Teil von Deichkind. Zusammen
  liefern sie einen Abend voller energiegeladener Rap-Musik und Live-Perfor
 mancekunst.
GEO:49.97585;9.149222
LAST-MODIFIED:20260422T083647Z
LOCATION:Colos-Saal\, Roßmarkt 19\, 63739\, Aschaffenburg
STATUS:CONFIRMED
URL:https://kulvio.de/event/3329
END:VEVENT
END:VCALENDAR
