BEGIN:VCALENDAR
VERSION:2.0
PRODID:-//Kulvio Event Calendar//kulvio.de//
CALSCALE:GREGORIAN
METHOD:PUBLISH
BEGIN:VEVENT
SUMMARY:Chris de Burgh – A Summer Night With
DTSTART:20260717T170000Z
DTEND:20260717T200000Z
DTSTAMP:20260423T022857Z
UID:kulvio-event-3330@kulvio.de
CATEGORIES:Konzert
CREATED:20260422T083525Z
DESCRIPTION:Der irische Sänger und Songwriter Chris de Burgh gastiert in 
 der Stadthalle am Schloss Aschaffenburg. Der Abend A Summer Night With ver
 spricht eine intime Konzertatmosphäre mit Hits wie Lady in Red und Don't 
 Pay the Ferryman. Chris de Burgh hat weltweit über 50 Millionen Tonträge
 r verkauft und zählt zu den erfolgreichsten Songwritern der Pop-Geschicht
 e.
GEO:49.976205;9.14419
LAST-MODIFIED:20260422T083647Z
LOCATION:Stadthalle am Schloss\, Schloßplatz 1\, 63739\, Aschaffenburg
STATUS:CONFIRMED
URL:https://kulvio.de/event/3330
END:VEVENT
END:VCALENDAR
