BEGIN:VCALENDAR
VERSION:2.0
PRODID:-//Kulvio Event Calendar//kulvio.de//
CALSCALE:GREGORIAN
METHOD:PUBLISH
BEGIN:VEVENT
SUMMARY:RIAN – Open Air auf dem Campus
DTSTART:20260818T180000Z
DTEND:20260818T210000Z
DTSTAMP:20260423T023031Z
UID:kulvio-event-3331@kulvio.de
CATEGORIES:Konzert,Open-Air
CREATED:20260422T083525Z
DESCRIPTION:Die Band RIAN eröffnet die Open-Air-Konzertreihe auf dem Camp
 us der Technischen Hochschule Aschaffenburg. Die Veranstaltung wird vom Co
 los-Saal organisiert und findet unter freiem Himmel auf dem Hochschulgelä
 nde statt. Die Sommerkonzerte auf dem Campus haben sich zu einem festen Be
 standteil des Aschaffenburger Kulturprogramms entwickelt.
GEO:49.97229;9.161558
LAST-MODIFIED:20260422T083647Z
LOCATION:Würzburger Straße 45\, 63743\, Aschaffenburg
STATUS:CONFIRMED
URL:https://kulvio.de/event/3331
END:VEVENT
END:VCALENDAR
