BEGIN:VCALENDAR
VERSION:2.0
PRODID:-//Kulvio Event Calendar//kulvio.de//
CALSCALE:GREGORIAN
METHOD:PUBLISH
BEGIN:VEVENT
SUMMARY:Thees Uhlmann & Band – Open Air auf dem Campus
DTSTART:20260819T180000Z
DTEND:20260819T210000Z
DTSTAMP:20260423T030341Z
UID:kulvio-event-3332@kulvio.de
CATEGORIES:Konzert,Open-Air
CREATED:20260422T083525Z
DESCRIPTION:Der Sänger und Autor Thees Uhlmann tritt mit seiner Band beim
  Open-Air-Konzert auf dem Campus der Technischen Hochschule Aschaffenburg 
 auf. Uhlmann wurde als Frontmann der Band Tomte bekannt und hat sich als S
 olokünstler und Romanautor einen Namen gemacht. Seine deutschsprachigen S
 ongs über das Leben\, die Liebe und das Erwachsenwerden haben ihm eine tr
 eue Fangemeinde eingebracht.
GEO:49.97229;9.161558
LAST-MODIFIED:20260422T083647Z
LOCATION:Würzburger Straße 45\, 63743\, Aschaffenburg
STATUS:CONFIRMED
URL:https://kulvio.de/event/3332
END:VEVENT
END:VCALENDAR
