BEGIN:VCALENDAR
VERSION:2.0
PRODID:-//Kulvio Event Calendar//kulvio.de//
CALSCALE:GREGORIAN
METHOD:PUBLISH
BEGIN:VEVENT
SUMMARY:Lichterkinder – Open Air auf dem Campus
DTSTART:20260820T140000Z
DTEND:20260820T160000Z
DTSTAMP:20260423T022537Z
UID:kulvio-event-3333@kulvio.de
CATEGORIES:Konzert,Open-Air,Familienausflug
CREATED:20260422T083525Z
DESCRIPTION:Die Kindermusik-Gruppe Lichterkinder spielt ein Open-Air-Konze
 rt auf dem Campus der Technischen Hochschule Aschaffenburg. Lichterkinder 
 sind bekannt für ihre eingängigen Kinderlieder\, die zum Mitsingen und M
 ittanzen einladen. Das Konzert richtet sich an Familien mit Kindern und bi
 etet ein musikalisches Erlebnis unter freiem Himmel.
GEO:49.97229;9.161558
LAST-MODIFIED:20260422T083647Z
LOCATION:Würzburger Straße 45\, 63743\, Aschaffenburg
STATUS:CONFIRMED
URL:https://kulvio.de/event/3333
END:VEVENT
END:VCALENDAR
