BEGIN:VCALENDAR
VERSION:2.0
PRODID:-//Kulvio Event Calendar//kulvio.de//
CALSCALE:GREGORIAN
METHOD:PUBLISH
BEGIN:VEVENT
SUMMARY:Dick Brave – Open Air auf dem Campus
DTSTART:20260821T180000Z
DTEND:20260821T210000Z
DTSTAMP:20260423T030027Z
UID:kulvio-event-3334@kulvio.de
CATEGORIES:Konzert,Open-Air
CREATED:20260422T083525Z
DESCRIPTION:Dick Brave\, das Rock'n'Roll-Alter-Ego von Sasha\, tritt beim 
 Open-Air-Konzert auf dem Campus der Technischen Hochschule Aschaffenburg a
 uf. Dick Brave and the Backbeats spielen authentischen Rock'n'Roll und Roc
 kabilly im Stil der 1950er Jahre. Die energiegeladenen Shows mit Pomade un
 d Lederjacke sind ein Garant für gute Stimmung unter freiem Himmel.
GEO:49.97229;9.161558
LAST-MODIFIED:20260422T083647Z
LOCATION:Würzburger Straße 45\, 63743\, Aschaffenburg
STATUS:CONFIRMED
URL:https://kulvio.de/event/3334
END:VEVENT
END:VCALENDAR
