BEGIN:VCALENDAR
VERSION:2.0
PRODID:-//Kulvio Event Calendar//kulvio.de//
CALSCALE:GREGORIAN
METHOD:PUBLISH
BEGIN:VEVENT
SUMMARY:Maxïmo Park – Open Air auf dem Campus
DTSTART:20260825T180000Z
DTEND:20260825T210000Z
DTSTAMP:20260423T022846Z
UID:kulvio-event-3335@kulvio.de
CATEGORIES:Konzert,Open-Air
CREATED:20260422T083525Z
DESCRIPTION:Die britische Indie-Rock-Band Maxïmo Park spielt ein Open-Air
 -Konzert auf dem Campus der Technischen Hochschule Aschaffenburg. Die Band
  aus Newcastle ist seit ihrem Debütalbum A Certain Trigger aus dem Jahr 2
 005 eine feste Größe im Indie-Rock. Ihre energiegeladenen Live-Auftritte
  und die markante Stimme von Frontmann Paul Smith machen sie zu einem High
 light des Aschaffenburger Konzertsommers.
GEO:49.97229;9.161558
LAST-MODIFIED:20260422T083647Z
LOCATION:Würzburger Straße 45\, 63743\, Aschaffenburg
STATUS:CONFIRMED
URL:https://kulvio.de/event/3335
END:VEVENT
END:VCALENDAR
