BEGIN:VCALENDAR
VERSION:2.0
PRODID:-//Kulvio Event Calendar//kulvio.de//
CALSCALE:GREGORIAN
METHOD:PUBLISH
BEGIN:VEVENT
SUMMARY:FAUN – HEX Tour 2026
DTSTART:20260828T180000Z
DTEND:20260828T210000Z
DTSTAMP:20260423T022858Z
UID:kulvio-event-3336@kulvio.de
CATEGORIES:Konzert
CREATED:20260422T083525Z
DESCRIPTION:Die Mittelalter-Folk-Band FAUN spielt im Colos-Saal Aschaffenb
 urg im Rahmen ihrer HEX Tour 2026. FAUN verbinden mittelalterliche Instrum
 ente und Klänge mit modernen Elementen und haben sich als eine der erfolg
 reichsten Folk-Bands Deutschlands etabliert. Ihre mystische Bühnenshow mi
 t historischen Kostümen und atmosphärischer Beleuchtung macht jedes Konz
 ert zu einem besonderen Erlebnis.
GEO:49.97585;9.149222
LAST-MODIFIED:20260422T083647Z
LOCATION:Colos-Saal\, Roßmarkt 19\, 63739\, Aschaffenburg
STATUS:CONFIRMED
URL:https://kulvio.de/event/3336
END:VEVENT
END:VCALENDAR
