BEGIN:VCALENDAR
VERSION:2.0
PRODID:-//Kulvio Event Calendar//kulvio.de//
CALSCALE:GREGORIAN
METHOD:PUBLISH
BEGIN:VEVENT
SUMMARY:Urban Priol – Im Fluss
DTSTART:20260912T180000Z
DTEND:20260912T203000Z
DTSTAMP:20260423T022858Z
UID:kulvio-event-3337@kulvio.de
CATEGORIES:Kabarett
CREATED:20260422T083525Z
DESCRIPTION:Der Kabarettist Urban Priol\, Gründer des Hofgarten Kabarett\
 , kehrt mit seinem Programm Im Fluss auf die eigene Bühne zurück. Priol 
 zählt zu den bekanntesten politischen Kabarettisten Deutschlands und nimm
 t das Zeitgeschehen mit scharfem Witz unter die Lupe. Sein Programm wird s
 tets an die aktuelle Nachrichtenlage angepasst\, sodass kein Auftritt wie 
 der andere ist. Aschaffenburg ist für Priol als Gründer des Hofgarten Ka
 barett ein Heimspiel.
GEO:49.974838;9.154287
LAST-MODIFIED:20260422T083647Z
LOCATION:Hofgarten Kabarett\, Hofgartenstraße 1a\, 63739\, Aschaffenburg
STATUS:CONFIRMED
URL:https://kulvio.de/event/3337
END:VEVENT
END:VCALENDAR
