BEGIN:VCALENDAR
VERSION:2.0
PRODID:-//Kulvio Event Calendar//kulvio.de//
CALSCALE:GREGORIAN
METHOD:PUBLISH
BEGIN:VEVENT
SUMMARY:True Collins – Europes Greatest Phil Collins Show
DTSTART:20260916T180000Z
DTEND:20260916T203000Z
DTSTAMP:20260423T030105Z
UID:kulvio-event-3338@kulvio.de
CATEGORIES:Konzert,Show
CREATED:20260422T083525Z
DESCRIPTION:Die Tribute-Show True Collins widmet sich dem Werk von Phil Co
 llins und Genesis in der Stadthalle am Schloss Aschaffenburg. Die als best
 e Phil-Collins-Tribute-Show Europas beworbene Produktion bringt Hits wie I
 n the Air Tonight\, Against All Odds und Sussudio auf die Bühne. Die Show
  bietet eine aufwendige Produktion mit Live-Band und originalgetreuen Arra
 ngements.
GEO:49.976205;9.14419
LAST-MODIFIED:20260422T083647Z
LOCATION:Stadthalle am Schloss\, Schloßplatz 1\, 63739\, Aschaffenburg
STATUS:CONFIRMED
URL:https://kulvio.de/event/3338
END:VEVENT
END:VCALENDAR
