BEGIN:VCALENDAR
VERSION:2.0
PRODID:-//Kulvio Event Calendar//kulvio.de//
CALSCALE:GREGORIAN
METHOD:PUBLISH
BEGIN:VEVENT
SUMMARY:A Tribute to ABBA – Unforgettable
DTSTART:20260919T180000Z
DTEND:20260919T203000Z
DTSTAMP:20260423T022537Z
UID:kulvio-event-3339@kulvio.de
CATEGORIES:Konzert,Show
CREATED:20260422T083525Z
DESCRIPTION:Die Tribute-Show A Tribute to ABBA – Unforgettable bringt di
 e größten Hits der schwedischen Pop-Ikonen in die Stadthalle am Schloss 
 Aschaffenburg. Songs wie Dancing Queen\, Mamma Mia und Waterloo werden in 
 originalgetreuen Kostümen und mit Live-Band aufgeführt. Die Show richtet
  sich an alle Generationen von ABBA-Fans und verspricht einen Abend voller
  Nostalgie und Tanzlaune.
GEO:49.976205;9.14419
LAST-MODIFIED:20260422T083647Z
LOCATION:Stadthalle am Schloss\, Schloßplatz 1\, 63739\, Aschaffenburg
STATUS:CONFIRMED
URL:https://kulvio.de/event/3339
END:VEVENT
END:VCALENDAR
