BEGIN:VCALENDAR
VERSION:2.0
PRODID:-//Kulvio Event Calendar//kulvio.de//
CALSCALE:GREGORIAN
METHOD:PUBLISH
BEGIN:VEVENT
SUMMARY:10cc – And Another Bloody Greatest Hits Tour 2026
DTSTART:20260926T180000Z
DTEND:20260926T210000Z
DTSTAMP:20260423T025409Z
UID:kulvio-event-3340@kulvio.de
CATEGORIES:Konzert
CREATED:20260422T083526Z
DESCRIPTION:Die legendäre britische Art-Rock-Band 10cc gastiert im Colos-
 Saal Aschaffenburg mit ihrer Greatest Hits Tour. Die Band um Graham Gouldm
 an ist bekannt für Hits wie I'm Not in Love\, Dreadlock Holiday und The T
 hings We Do for Love. 10cc zählen zu den innovativsten Bands der 1970er J
 ahre und bringen ihre zeitlosen Songs in einem intimen Club-Setting auf di
 e Bühne.
GEO:49.97585;9.149222
LAST-MODIFIED:20260422T083647Z
LOCATION:Colos-Saal\, Roßmarkt 19\, 63739\, Aschaffenburg
STATUS:CONFIRMED
URL:https://kulvio.de/event/3340
END:VEVENT
END:VCALENDAR
