BEGIN:VCALENDAR
VERSION:2.0
PRODID:-//Kulvio Event Calendar//kulvio.de//
CALSCALE:GREGORIAN
METHOD:PUBLISH
BEGIN:VEVENT
SUMMARY:Jochen Malmsheimer – Solo im Hofgarten Kabarett
DTSTART:20261007T180000Z
DTEND:20261007T200000Z
DTSTAMP:20260423T022546Z
UID:kulvio-event-3341@kulvio.de
CATEGORIES:Kabarett
CREATED:20260422T083526Z
DESCRIPTION:Der Kabarettist und Wortakrobat Jochen Malmsheimer gastiert im
  Hofgarten Kabarett Aschaffenburg. Malmsheimer ist bekannt für seine virt
 uosen Sprachkaskaden und seinen einzigartigen Stil\, der Literatur\, Satir
 e und Kabarett miteinander verbindet. Seine Programme zeichnen sich durch 
 einen reichen Wortschatz und geschliffene Pointen aus\, die das Publikum i
 mmer wieder in Staunen versetzen.
GEO:49.974838;9.154287
LAST-MODIFIED:20260422T083647Z
LOCATION:Hofgarten Kabarett\, Hofgartenstraße 1a\, 63739\, Aschaffenburg
STATUS:CONFIRMED
URL:https://kulvio.de/event/3341
END:VEVENT
END:VCALENDAR
