BEGIN:VCALENDAR
VERSION:2.0
PRODID:-//Kulvio Event Calendar//kulvio.de//
CALSCALE:GREGORIAN
METHOD:PUBLISH
BEGIN:VEVENT
SUMMARY:Ingo Appelt – Männer nerven stark
DTSTART:20261025T170000Z
DTEND:20261025T193000Z
DTSTAMP:20260423T023440Z
UID:kulvio-event-3342@kulvio.de
CATEGORIES:Comedy
CREATED:20260422T083526Z
DESCRIPTION:Der Comedian Ingo Appelt bringt sein Programm Männer nerven s
 tark ins Hofgarten Kabarett Aschaffenburg. Appelt ist bekannt für seine p
 rovokanten und direkten Comedy-Shows\, in denen er die Geschlechterdynamik
  und den Alltag zwischen Männern und Frauen humorvoll seziert. Seine Prog
 ramme sorgen regelmäßig für ausverkaufte Häuser und einen unterhaltsam
 en Abend mit Lachgarantie.
GEO:49.974838;9.154287
LAST-MODIFIED:20260422T083647Z
LOCATION:Hofgarten Kabarett\, Hofgartenstraße 1a\, 63739\, Aschaffenburg
STATUS:CONFIRMED
URL:https://kulvio.de/event/3342
END:VEVENT
END:VCALENDAR
