BEGIN:VCALENDAR
VERSION:2.0
PRODID:-//Kulvio Event Calendar//kulvio.de//
CALSCALE:GREGORIAN
METHOD:PUBLISH
BEGIN:VEVENT
SUMMARY:SOWETO GOSPEL CHOIR – JOY!
DTSTART:20261031T190000Z
DTEND:20261031T213000Z
DTSTAMP:20260423T022941Z
UID:kulvio-event-3343@kulvio.de
CATEGORIES:Konzert
CREATED:20260422T083526Z
DESCRIPTION:Der mehrfach mit dem Grammy ausgezeichnete Soweto Gospel Choir
  aus Südafrika gastiert mit seinem Programm JOY! in der Stadthalle am Sch
 loss Aschaffenburg. Der Chor verbindet traditionelle südafrikanische Gosp
 elmusik mit internationalen Hits und begeistert mit mitreißenden Harmonie
 n und energiegeladenen Choreographien. Die Auftritte des Soweto Gospel Cho
 ir sind weltweit für ihre emotionale Kraft bekannt.
GEO:49.976205;9.14419
LAST-MODIFIED:20260422T083647Z
LOCATION:Stadthalle am Schloss\, Schloßplatz 1\, 63739\, Aschaffenburg
STATUS:CONFIRMED
URL:https://kulvio.de/event/3343
END:VEVENT
END:VCALENDAR
