BEGIN:VCALENDAR
VERSION:2.0
PRODID:-//Kulvio Event Calendar//kulvio.de//
CALSCALE:GREGORIAN
METHOD:PUBLISH
BEGIN:VEVENT
SUMMARY:Red Hot Chilli Pipers – Back 2 Roots World Tour
DTSTART:20261105T190000Z
DTEND:20261105T220000Z
DTSTAMP:20260423T022547Z
UID:kulvio-event-3344@kulvio.de
CATEGORIES:Konzert
CREATED:20260422T083526Z
DESCRIPTION:Die schottischen Red Hot Chilli Pipers bringen ihre einzigarti
 ge Mischung aus Dudelsackmusik und Rock in den Colos-Saal Aschaffenburg. D
 ie Bagpipe-Rock-Formation hat sich mit ihrem Genre-Mix einen international
 en Namen gemacht und verwandelt traditionelle schottische Klänge in mitre
 ißende Rock-Performances. Die Back 2 Roots World Tour verspricht einen en
 ergiegeladenen und außergewöhnlichen Konzertabend.
GEO:49.97585;9.149222
LAST-MODIFIED:20260422T083647Z
LOCATION:Colos-Saal\, Roßmarkt 19\, 63739\, Aschaffenburg
STATUS:CONFIRMED
URL:https://kulvio.de/event/3344
END:VEVENT
END:VCALENDAR
