BEGIN:VCALENDAR
VERSION:2.0
PRODID:-//Kulvio Event Calendar//kulvio.de//
CALSCALE:GREGORIAN
METHOD:PUBLISH
BEGIN:VEVENT
SUMMARY:Walter Trout – Sign Of The Times Part II European Tour
DTSTART:20261112T190000Z
DTEND:20261112T220000Z
DTSTAMP:20260423T025410Z
UID:kulvio-event-3345@kulvio.de
CATEGORIES:Konzert
CREATED:20260422T083526Z
DESCRIPTION:Der amerikanische Blues-Gitarrist Walter Trout spielt im Colos
 -Saal Aschaffenburg im Rahmen seiner Sign Of The Times Part II European To
 ur. Trout gilt als einer der bedeutendsten Blues-Rock-Gitarristen seiner G
 eneration und war unter anderem Mitglied bei Canned Heat und bei John Maya
 ll. Seine Solo-Karriere umfasst über 30 Alben und begeistert Blues-Fans w
 eltweit. Im intimen Rahmen des Colos-Saal kommt sein kraftvolles Gitarrens
 piel besonders gut zur Geltung.
GEO:49.97585;9.149222
LAST-MODIFIED:20260422T083647Z
LOCATION:Colos-Saal\, Roßmarkt 19\, 63739\, Aschaffenburg
STATUS:CONFIRMED
URL:https://kulvio.de/event/3345
END:VEVENT
END:VCALENDAR
