BEGIN:VCALENDAR
VERSION:2.0
PRODID:-//Kulvio Event Calendar//kulvio.de//
CALSCALE:GREGORIAN
METHOD:PUBLISH
BEGIN:VEVENT
SUMMARY:Henni Nachtsheim & Band – Es wird Zeiten geben
DTSTART:20261118T190000Z
DTEND:20261118T220000Z
DTSTAMP:20260423T023153Z
UID:kulvio-event-3346@kulvio.de
CATEGORIES:Konzert,Comedy
CREATED:20260422T083526Z
DESCRIPTION:Henni Nachtsheim\, bekannt als eine Hälfte des Comedy-Duos Ba
 desalz\, tritt mit seiner Band und dem Programm Es wird Zeiten geben – D
 ie Jubiläumstour im Colos-Saal Aschaffenburg auf. Nachtsheim zeigt sich i
 n seiner Soloshow von einer musikalischen Seite und verbindet Songs mit se
 inem typischen hessischen Humor. Der Abend bietet eine Mischung aus Musik 
 und Unterhaltung.
GEO:49.97585;9.149222
LAST-MODIFIED:20260422T083647Z
LOCATION:Colos-Saal\, Roßmarkt 19\, 63739\, Aschaffenburg
STATUS:CONFIRMED
URL:https://kulvio.de/event/3346
END:VEVENT
END:VCALENDAR
