BEGIN:VCALENDAR
VERSION:2.0
PRODID:-//Kulvio Event Calendar//kulvio.de//
CALSCALE:GREGORIAN
METHOD:PUBLISH
BEGIN:VEVENT
SUMMARY:Eure Mütter – Perlen vor die Säue
DTSTART:20261120T190000Z
DTEND:20261120T213000Z
DTSTAMP:20260423T022847Z
UID:kulvio-event-3347@kulvio.de
CATEGORIES:Comedy
CREATED:20260422T083526Z
DESCRIPTION:Das Comedy-Trio Eure Mütter bringt sein Programm Perlen vor d
 ie Säue in die Stadthalle am Schloss Aschaffenburg. Die drei Comedians si
 nd bekannt für ihre anarchische Mischung aus Slapstick\, Musik-Comedy und
  absurdem Humor. Seit über 15 Jahren gehören Eure Mütter zu den erfolgr
 eichsten Live-Comedy-Acts in Deutschland und sorgen für ausgelassene Stim
 mung im Publikum.
GEO:49.976205;9.14419
LAST-MODIFIED:20260422T083647Z
LOCATION:Stadthalle am Schloss\, Schloßplatz 1\, 63739\, Aschaffenburg
STATUS:CONFIRMED
URL:https://kulvio.de/event/3347
END:VEVENT
END:VCALENDAR
