BEGIN:VCALENDAR
VERSION:2.0
PRODID:-//Kulvio Event Calendar//kulvio.de//
CALSCALE:GREGORIAN
METHOD:PUBLISH
BEGIN:VEVENT
SUMMARY:Das Kriminal Dinner in der Stadthalle
DTSTART:20261121T180000Z
DTEND:20261121T220000Z
DTSTAMP:20260423T025948Z
UID:kulvio-event-3348@kulvio.de
CATEGORIES:Theater,Show
CREATED:20260422T083526Z
DESCRIPTION:Das interaktive Kriminal Dinner findet in der Stadthalle am Sc
 hloss Aschaffenburg statt. Bei dieser Kombination aus Dinner und Krimi-The
 aterstück werden die Gäste selbst zu Ermittlern und müssen während ein
 es mehrgängigen Menüs einen fiktiven Mordfall lösen. Die Veranstaltung 
 bietet einen unterhaltsamen Abend mit Schauspiel\, gutem Essen und Spannun
 g für alle Krimi-Fans.
GEO:49.976205;9.14419
LAST-MODIFIED:20260422T083647Z
LOCATION:Stadthalle am Schloss\, Schloßplatz 1\, 63739\, Aschaffenburg
STATUS:CONFIRMED
URL:https://kulvio.de/event/3348
END:VEVENT
END:VCALENDAR
