BEGIN:VCALENDAR
VERSION:2.0
PRODID:-//Kulvio Event Calendar//kulvio.de//
CALSCALE:GREGORIAN
METHOD:PUBLISH
BEGIN:VEVENT
SUMMARY:Ray Wilson – Genesis Classic
DTSTART:20261121T190000Z
DTEND:20261121T220000Z
DTSTAMP:20260423T022536Z
UID:kulvio-event-3349@kulvio.de
CATEGORIES:Konzert
CREATED:20260422T083526Z
DESCRIPTION:Ray Wilson\, ehemaliger Sänger von Genesis\, bringt die Klass
 iker der Band auf die Bühne des Colos-Saal Aschaffenburg. Wilson war der 
 Frontmann der Gruppe für das Album Calling All Stations und interpretiert
  seitdem die zeitlosen Genesis-Hits auf seinen Solotouren. Der Abend umfas
 st Songs aus der gesamten Genesis-Diskographie und eigene Stücke des scho
 ttischen Sängers.
GEO:49.97585;9.149222
LAST-MODIFIED:20260422T083647Z
LOCATION:Colos-Saal\, Roßmarkt 19\, 63739\, Aschaffenburg
STATUS:CONFIRMED
URL:https://kulvio.de/event/3349
END:VEVENT
END:VCALENDAR
