BEGIN:VCALENDAR
VERSION:2.0
PRODID:-//Kulvio Event Calendar//kulvio.de//
CALSCALE:GREGORIAN
METHOD:PUBLISH
BEGIN:VEVENT
SUMMARY:F.M. Barwasser / Erwin Pelzig – Wer wir werden
DTSTART:20261205T190000Z
DTEND:20261205T213000Z
DTSTAMP:20260423T022859Z
UID:kulvio-event-3350@kulvio.de
CATEGORIES:Kabarett
CREATED:20260422T083526Z
DESCRIPTION:Der Kabarettist Frank-Markus Barwasser alias Erwin Pelzig prä
 sentiert sein Programm Wer wir werden im Hofgarten Kabarett Aschaffenburg.
  Pelzig ist eine der bekanntesten Figuren des deutschen politischen Kabare
 tts und nimmt das Weltgeschehen aus fränkischer Perspektive aufs Korn. Ba
 rwasser wurde mit zahlreichen Kabarettpreisen ausgezeichnet und ist regelm
 äßiger Gast in TV-Sendungen.
GEO:49.974838;9.154287
LAST-MODIFIED:20260422T083647Z
LOCATION:Hofgarten Kabarett\, Hofgartenstraße 1a\, 63739\, Aschaffenburg
STATUS:CONFIRMED
URL:https://kulvio.de/event/3350
END:VEVENT
END:VCALENDAR
