BEGIN:VCALENDAR
VERSION:2.0
PRODID:-//Kulvio Event Calendar//kulvio.de//
CALSCALE:GREGORIAN
METHOD:PUBLISH
BEGIN:VEVENT
SUMMARY:DANCE MASTERS! Best Of Irish Dance
DTSTART:20261206T180000Z
DTEND:20261206T203000Z
DTSTAMP:20260423T030317Z
UID:kulvio-event-3351@kulvio.de
CATEGORIES:Show,Tanz
CREATED:20260422T083526Z
DESCRIPTION:Die Tanzshow DANCE MASTERS! Best Of Irish Dance gastiert in de
 r Stadthalle am Schloss Aschaffenburg. Die Show präsentiert die besten Ir
 ish-Dance-Stücke mit professionellen Tänzerinnen und Tänzern in aufwend
 igen Kostümen. Irish Dance begeistert seit Riverdance und Lord of the Dan
 ce ein weltweites Publikum\, und DANCE MASTERS bringt die mitreißende Ene
 rgie dieses Tanzstils auf die Aschaffenburger Bühne.
GEO:49.976205;9.14419
LAST-MODIFIED:20260422T083647Z
LOCATION:Stadthalle am Schloss\, Schloßplatz 1\, 63739\, Aschaffenburg
STATUS:CONFIRMED
URL:https://kulvio.de/event/3351
END:VEVENT
END:VCALENDAR
