BEGIN:VCALENDAR
VERSION:2.0
PRODID:-//Kulvio Event Calendar//kulvio.de//
CALSCALE:GREGORIAN
METHOD:PUBLISH
BEGIN:VEVENT
SUMMARY:J.B.O. – Blast Christmas 2026
DTSTART:20261210T190000Z
DTEND:20261210T220000Z
DTSTAMP:20260423T022859Z
UID:kulvio-event-3352@kulvio.de
CATEGORIES:Konzert
CREATED:20260422T083526Z
DESCRIPTION:Die Fun-Metal-Band J.B.O. feiert im Colos-Saal Aschaffenburg i
 hr traditionelles Blast Christmas Konzert. Die fränkische Band ist seit 
 über 30 Jahren für ihre humorvollen Metal-Parodien und Cover-Versionen b
 ekannt. Das Weihnachtsspecial verbindet Heavy Metal mit festlicher Stimmun
 g und gehört zu den beliebtesten jährlichen Events im Colos-Saal.
GEO:49.97585;9.149222
LAST-MODIFIED:20260422T083647Z
LOCATION:Colos-Saal\, Roßmarkt 19\, 63739\, Aschaffenburg
STATUS:CONFIRMED
URL:https://kulvio.de/event/3352
END:VEVENT
END:VCALENDAR
