BEGIN:VCALENDAR
VERSION:2.0
PRODID:-//Kulvio Event Calendar//kulvio.de//
CALSCALE:GREGORIAN
METHOD:PUBLISH
BEGIN:VEVENT
SUMMARY:Rodgau Monotones im Colos-Saal
DTSTART:20261212T190000Z
DTEND:20261212T220000Z
DTSTAMP:20260423T025948Z
UID:kulvio-event-3353@kulvio.de
CATEGORIES:Konzert
CREATED:20260422T083526Z
DESCRIPTION:Die hessische Kultband Rodgau Monotones spielt im Colos-Saal A
 schaffenburg. Die Band ist seit den 1980er Jahren mit Hits wie Erbarme\, d
 ie Hesse komme und Ei gude wie fester Bestandteil der regionalen Musikszen
 e. Ihre Mischung aus Rock\, Blues und hessischem Humor hat ihnen eine treu
 e Fangemeinde im gesamten Rhein-Main-Gebiet eingebracht. Das Konzert versp
 richt einen Abend voller hessischer Musikgeschichte.
GEO:49.97585;9.149222
LAST-MODIFIED:20260422T083647Z
LOCATION:Colos-Saal\, Roßmarkt 19\, 63739\, Aschaffenburg
STATUS:CONFIRMED
URL:https://kulvio.de/event/3353
END:VEVENT
END:VCALENDAR
