BEGIN:VCALENDAR
VERSION:2.0
PRODID:-//Kulvio Event Calendar//kulvio.de//
CALSCALE:GREGORIAN
METHOD:PUBLISH
BEGIN:VEVENT
SUMMARY:All I Want For Christmas – Weihnachtsshow
DTSTART:20261218T190000Z
DTEND:20261218T213000Z
DTSTAMP:20260423T030328Z
UID:kulvio-event-3354@kulvio.de
CATEGORIES:Konzert,Show
CREATED:20260422T083526Z
DESCRIPTION:Die Weihnachtsshow All I Want For Christmas gastiert in der St
 adthalle am Schloss Aschaffenburg. Die festliche Produktion bringt beliebt
 e Weihnachtshits und winterliche Stimmung auf die Bühne. Mit Live-Musik u
 nd einer stimmungsvollen Inszenierung ist die Show ideal\, um sich in der 
 Vorweihnachtszeit auf das Fest einzustimmen und einen musikalischen Abend 
 zu genießen.
GEO:49.976205;9.14419
LAST-MODIFIED:20260422T083647Z
LOCATION:Stadthalle am Schloss\, Schloßplatz 1\, 63739\, Aschaffenburg
STATUS:CONFIRMED
URL:https://kulvio.de/event/3354
END:VEVENT
END:VCALENDAR
