BEGIN:VCALENDAR
VERSION:2.0
PRODID:-//Kulvio Event Calendar//kulvio.de//
CALSCALE:GREGORIAN
METHOD:PUBLISH
BEGIN:VEVENT
SUMMARY:Best of Musicals Tour 26/27
DTSTART:20261229T190000Z
DTEND:20261229T213000Z
DTSTAMP:20260423T030034Z
UID:kulvio-event-3355@kulvio.de
CATEGORIES:Musical,Show
CREATED:20260422T083526Z
DESCRIPTION:Die Best of Musicals Tour macht in der Stadthalle am Schloss A
 schaffenburg Station und präsentiert die bekanntesten Musical-Hits in ein
 er aufwendigen Bühnenshow. Von Phantom der Oper über Les Misérables bis
  zu König der Löwen werden Songs aus den beliebtesten Musicals aller Zei
 ten von professionellen Musical-Darstellern interpretiert. Die Show unter 
 der musikalischen Leitung von Espen Nowacki bietet einen Querschnitt durch
  die Musical-Geschichte.
GEO:49.976205;9.14419
LAST-MODIFIED:20260422T083647Z
LOCATION:Stadthalle am Schloss\, Schloßplatz 1\, 63739\, Aschaffenburg
STATUS:CONFIRMED
URL:https://kulvio.de/event/3355
END:VEVENT
END:VCALENDAR
