BEGIN:VCALENDAR
VERSION:2.0
PRODID:-//Kulvio Event Calendar//kulvio.de//
CALSCALE:GREGORIAN
METHOD:PUBLISH
BEGIN:VEVENT
SUMMARY:Don't call it Afterwork
DTSTART:20260422T160000Z
DTEND:20260422T210000Z
DTSTAMP:20260423T022940Z
UID:kulvio-event-3356@kulvio.de
CATEGORIES:Afterwork,Party
CREATED:20260422T084741Z
DESCRIPTION:Die Veranstaltungsreihe Don't call it Afterwork lädt zum ents
 pannten Feierabend in die Fortuna Irgendwo im Frankfurter Ostend ein. In i
 ndustriellem Ambiente mit Innen- und Außenbereich können Gäste den Aben
 d bei Drinks und Musik ausklingen lassen. Das Format richtet sich an alle\
 , die nach der Arbeit in lockerer Atmosphäre neue Leute kennenlernen oder
  mit Freunden zusammenkommen möchten. Start ist um 18 Uhr.
GEO:50.114442;8.720977
LAST-MODIFIED:20260422T084846Z
LOCATION:Fortuna Irgendwo\, Hanauer Landstraße 192\, 60314\, Frankfurt am
  Main
STATUS:CONFIRMED
URL:https://kulvio.de/event/3356
END:VEVENT
END:VCALENDAR
