BEGIN:VCALENDAR
VERSION:2.0
PRODID:-//Kulvio Event Calendar//kulvio.de//
CALSCALE:GREGORIAN
METHOD:PUBLISH
BEGIN:VEVENT
SUMMARY:Ink & Drink im Lyvinn Hotel
DTSTART:20260422T160000Z
DTEND:20260422T170000Z
DTSTAMP:20260423T023032Z
UID:kulvio-event-3357@kulvio.de
CATEGORIES:Afterwork,Workshop
CREATED:20260422T084741Z
DESCRIPTION:Ink & Drink verbindet kreatives Zeichnen mit einem gemütliche
 n Drink-Abend im Lyvinn Hotel im Frankfurter Europaviertel. Die Teilnehmer
  können bei einem Getränk eigene Skizzen und Illustrationen anfertigen u
 nd sich mit anderen Kreativen austauschen. Das Format ist offen für alle 
 Erfahrungsstufen und bietet eine entspannte Alternative zum klassischen Af
 terwork. Der Eintritt ist frei.
GEO:50.108975;8.643868
LAST-MODIFIED:20260422T084846Z
LOCATION:Lyvinn Hotel\, Europa-Allee 64\, 60327\, Frankfurt am Main
STATUS:CONFIRMED
URL:https://kulvio.de/event/3357
END:VEVENT
END:VCALENDAR
