BEGIN:VCALENDAR
VERSION:2.0
PRODID:-//Kulvio Event Calendar//kulvio.de//
CALSCALE:GREGORIAN
METHOD:PUBLISH
BEGIN:VEVENT
SUMMARY:ITCS Darmstadt 2026
DTSTART:20260423T080000Z
DTEND:20260423T150000Z
DTSTAMP:20260423T023439Z
UID:kulvio-event-3358@kulvio.de
CATEGORIES:Messe,Tech-Meetup,Konferenz
CREATED:20260422T084741Z
DESCRIPTION:Die ITCS ist eine IT-Karrieremesse\, die Fachkräfte und Unter
 nehmen aus der Tech-Branche zusammenbringt. Im darmstadtium in Darmstadt p
 räsentieren sich Arbeitgeber aus den Bereichen Software-Entwicklung\, Dat
 a Science\, IT-Sicherheit und weiteren Technologiefeldern. Neben den Messe
 ständen gibt es ein Vortragsprogramm mit Talks zu aktuellen Tech-Themen. 
 Die Teilnahme ist für Besucher kostenlos.
GEO:49.874356;8.656813
LAST-MODIFIED:20260422T084846Z
LOCATION:darmstadtium\, Schlossgraben 1\, 64283\, Darmstadt
STATUS:CONFIRMED
URL:https://kulvio.de/event/3358
END:VEVENT
END:VCALENDAR
