BEGIN:VCALENDAR
VERSION:2.0
PRODID:-//Kulvio Event Calendar//kulvio.de//
CALSCALE:GREGORIAN
METHOD:PUBLISH
BEGIN:VEVENT
SUMMARY:ALÓ Daydrinking Frankfurt
DTSTART:20260423T170000Z
DTEND:20260423T230000Z
DTSTAMP:20260423T022942Z
UID:kulvio-event-3359@kulvio.de
CATEGORIES:Party,Club
CREATED:20260422T084741Z
DESCRIPTION:ALÓ Daydrinking Frankfurt findet in der Fortuna Irgendwo im F
 rankfurter Ostend statt. Die Veranstaltung verbindet Latin\, Afro und Hous
 e-Musik mit einem lockeren Daydrinking-Format am Abend. Die Fortuna Irgend
 wo bietet dafür ein industrielles Ambiente mit Innen- und Außenbereich. 
 Das Event richtet sich an alle\, die zu rhythmischer Musik feiern und den 
 Abend in entspannter Atmosphäre verbringen möchten.
GEO:50.114442;8.720977
LAST-MODIFIED:20260422T084846Z
LOCATION:Fortuna Irgendwo\, Hanauer Landstraße 192\, 60314\, Frankfurt am
  Main
STATUS:CONFIRMED
URL:https://kulvio.de/event/3359
END:VEVENT
END:VCALENDAR
