BEGIN:VCALENDAR
VERSION:2.0
PRODID:-//Kulvio Event Calendar//kulvio.de//
CALSCALE:GREGORIAN
METHOD:PUBLISH
BEGIN:VEVENT
SUMMARY:Ballroom Code Queer
DTSTART:20260424T200000Z
DTEND:20260424T210000Z
DTSTAMP:20260423T023033Z
UID:kulvio-event-3360@kulvio.de
CATEGORIES:Party,Tanz,LGBTQIA+
CREATED:20260422T084741Z
DESCRIPTION:Ballroom Code Queer ist ein queerer Tanzabend in der Fortuna I
 rgendwo in Frankfurt. Die Veranstaltung verbindet Ballroom Culture mit ele
 ktronischer Musik und bietet einen geschützten Raum für die LGBTQIA+-Com
 munity. In dem weitläufigen Industrieambiente der Fortuna Irgendwo im Ost
 end können Gäste tanzen und sich frei entfalten. Das Event steht allen o
 ffen\, die queere Feierkultur erleben möchten.
GEO:50.114442;8.720977
LAST-MODIFIED:20260422T084846Z
LOCATION:Fortuna Irgendwo\, Hanauer Landstraße 192\, 60314\, Frankfurt am
  Main
STATUS:CONFIRMED
URL:https://kulvio.de/event/3360
END:VEVENT
END:VCALENDAR
