BEGIN:VCALENDAR
VERSION:2.0
PRODID:-//Kulvio Event Calendar//kulvio.de//
CALSCALE:GREGORIAN
METHOD:PUBLISH
BEGIN:VEVENT
SUMMARY:Standby Session Vol.03
DTSTART:20260424T210000Z
DTEND:20260424T220000Z
DTSTAMP:20260423T023441Z
UID:kulvio-event-3361@kulvio.de
CATEGORIES:Club,Party
CREATED:20260422T084741Z
DESCRIPTION:Die Standby Session Vol.03 ist eine Clubnacht im Elfer Club im
  Frankfurter Sachsenhausen. Das Event bietet elektronische Musik auf der T
 anzfläche des traditionsreichen Clubs in der Kleinen Rittergasse. Der Elf
 er Club ist bekannt für sein intimes Setting und sein vielfältiges Musik
 programm. Einlass ist ab 23 Uhr\, der Eintritt kostet 15 Euro.
GEO:50.105674;8.690182
LAST-MODIFIED:20260422T084846Z
LOCATION:ELFER MUSIC CLUB\, Kleine Rittergasse 14-20\, 60594\, Frankfurt a
 m Main
STATUS:CONFIRMED
URL:https://kulvio.de/event/3361
END:VEVENT
END:VCALENDAR
