BEGIN:VCALENDAR
VERSION:2.0
PRODID:-//Kulvio Event Calendar//kulvio.de//
CALSCALE:GREGORIAN
METHOD:PUBLISH
BEGIN:VEVENT
SUMMARY:Super Single Party — Alles für die Liebe
DTSTART:20260424T200000Z
DTEND:20260424T210000Z
DTSTAMP:20260423T023155Z
UID:kulvio-event-3362@kulvio.de
CATEGORIES:Party,Club
CREATED:20260422T084741Z
DESCRIPTION:Die Super Single Party im ZOOM Frankfurt bringt Singles aus de
 m Rhein-Main-Gebiet auf der Tanzfläche zusammen. Unter dem Motto Alles f
 ür die Liebe sorgen DJs für Musik aus verschiedenen Genres. Das ZOOM in 
 Frankfurt-Fechenheim bietet ausreichend Platz zum Tanzen und Kennenlernen.
  Die Veranstaltung richtet sich an alle Singles\, die in entspannter Cluba
 tmosphäre neue Kontakte knüpfen möchten.
GEO:50.121618;8.750517
LAST-MODIFIED:20260422T084846Z
LOCATION:ZOOM Frankfurt\, Carl-Benz-Str. 21\, 60386\, Frankfurt am Main
STATUS:CONFIRMED
URL:https://kulvio.de/event/3362
END:VEVENT
END:VCALENDAR
