BEGIN:VCALENDAR
VERSION:2.0
PRODID:-//Kulvio Event Calendar//kulvio.de//
CALSCALE:GREGORIAN
METHOD:PUBLISH
BEGIN:VEVENT
SUMMARY:House & UK-Garage Night
DTSTART:20260424T200000Z
DTEND:20260424T210000Z
DTSTAMP:20260423T022548Z
UID:kulvio-event-3363@kulvio.de
CATEGORIES:Club,Party
CREATED:20260422T084741Z
DESCRIPTION:Die House und UK-Garage Night findet in der Bar der Centralsta
 tion Darmstadt statt. Der Abend widmet sich den Sounds aus den Bereichen H
 ouse und UK-Garage mit DJ-Sets in der intimen Bar-Atmosphäre des Kulturze
 ntrums. Die Centralstation in der Darmstädter Innenstadt ist ein etablier
 ter Ort für Konzerte und Clubnächte. Musikfans der elektronischen Szene 
 kommen hier auf ihre Kosten.
GEO:49.87228;8.652536
LAST-MODIFIED:20260422T084846Z
LOCATION:Centralstation\, Im Carree 1\, 64283\, Darmstadt
STATUS:CONFIRMED
URL:https://kulvio.de/event/3363
END:VEVENT
END:VCALENDAR
