BEGIN:VCALENDAR
VERSION:2.0
PRODID:-//Kulvio Event Calendar//kulvio.de//
CALSCALE:GREGORIAN
METHOD:PUBLISH
BEGIN:VEVENT
SUMMARY:Rundflugtag am Flugplatz Egelsbach
DTSTART:20260425T080000Z
DTEND:20260425T150000Z
DTSTAMP:20260423T022549Z
UID:kulvio-event-3364@kulvio.de
CATEGORIES:Familienausflug,Open-Air
CREATED:20260422T084741Z
DESCRIPTION:Der Rundflugtag am Flugplatz Frankfurt-Egelsbach bietet die M
 öglichkeit\, die Region aus der Vogelperspektive zu erleben. Besucher kö
 nnen Rundflüge über das Rhein-Main-Gebiet unternehmen und verschiedene F
 lugzeugtypen am Boden besichtigen. Der Flugplatz Egelsbach liegt zwischen 
 Frankfurt\, Offenbach und Darmstadt und ist einer der verkehrsreichsten Sp
 ortflugplätze Europas. Das Event eignet sich für Familien und Luftfahrtb
 egeisterte.
GEO:49.963698;8.641907
LAST-MODIFIED:20260422T084846Z
LOCATION:Flugplatz Frankfurt-Egelsbach\, Am Flugplatz\, 63329\, Egelsbach
STATUS:CONFIRMED
URL:https://kulvio.de/event/3364
END:VEVENT
END:VCALENDAR
