BEGIN:VCALENDAR
VERSION:2.0
PRODID:-//Kulvio Event Calendar//kulvio.de//
CALSCALE:GREGORIAN
METHOD:PUBLISH
BEGIN:VEVENT
SUMMARY:When In Rome
DTSTART:20260425T210000Z
DTEND:20260425T220000Z
DTSTAMP:20260423T022547Z
UID:kulvio-event-3365@kulvio.de
CATEGORIES:Club,Party
CREATED:20260422T084741Z
DESCRIPTION:When In Rome ist eine Clubnacht im Freud Club in der Frankfurt
 er Innenstadt. Die Veranstaltung verbindet verschiedene elektronische Musi
 kstile auf der Tanzfläche des Clubs am Holzgraben. Der Freud Club ist bek
 annt für sein unterirdisches Setting und sein vielfältiges Nachtprogramm
 . Das Event richtet sich an Clubgänger und Fans elektronischer Musik.
GEO:50.10387;8.648491
LAST-MODIFIED:20260422T084846Z
LOCATION:Adam Riese\, Mainzer Landstraße 229\, 60327\, Frankfurt am Main
STATUS:CONFIRMED
URL:https://kulvio.de/event/3365
END:VEVENT
END:VCALENDAR
