BEGIN:VCALENDAR
VERSION:2.0
PRODID:-//Kulvio Event Calendar//kulvio.de//
CALSCALE:GREGORIAN
METHOD:PUBLISH
BEGIN:VEVENT
SUMMARY:RightNow Anniversary
DTSTART:20260425T180000Z
DTEND:20260425T190000Z
DTSTAMP:20260423T023032Z
UID:kulvio-event-3366@kulvio.de
CATEGORIES:Party,Afterwork
CREATED:20260422T084741Z
DESCRIPTION:Die RightNow Anniversary Party feiert das Jubiläum der Verans
 taltungsreihe im NOAH in Frankfurt. Das NOAH an der Welle in der Frankfurt
 er Innenstadt bietet eine stilvolle Atmosphäre für den Abend mit Musik u
 nd Drinks. Die Jubiläumsfeier verspricht ein besonderes Line-up und Progr
 amm für die Stammgäste und neue Besucher. Start ist ab 20 Uhr.
GEO:50.117509;8.671765
LAST-MODIFIED:20260422T084846Z
LOCATION:NOAH\, An der Welle 3\, 60322\, Frankfurt am Main
STATUS:CONFIRMED
URL:https://kulvio.de/event/3366
END:VEVENT
END:VCALENDAR
