BEGIN:VCALENDAR
VERSION:2.0
PRODID:-//Kulvio Event Calendar//kulvio.de//
CALSCALE:GREGORIAN
METHOD:PUBLISH
BEGIN:VEVENT
SUMMARY:Brisa Latin Party
DTSTART:20260425T200000Z
DTEND:20260425T210000Z
DTSTAMP:20260423T022857Z
UID:kulvio-event-3367@kulvio.de
CATEGORIES:Party,Club,Tanz
CREATED:20260422T084741Z
DESCRIPTION:Die Brisa Latin Party bringt lateinamerikanische Rhythmen in d
 ie Fortuna Irgendwo im Frankfurter Ostend. DJs spielen Salsa\, Reggaeton\,
  Bachata und weitere Latin-Sounds auf der Tanzfläche des Industriekomplex
 es an der Hanauer Landstraße. Die Fortuna Irgendwo bietet mit ihrem weitl
 äufigen Innen- und Außenbereich viel Platz zum Tanzen. Das Event richtet
  sich an alle Fans lateinamerikanischer Musik und Tanzkultur.
GEO:50.114442;8.720977
LAST-MODIFIED:20260422T084846Z
LOCATION:Fortuna Irgendwo\, Hanauer Landstraße 192\, 60314\, Frankfurt am
  Main
STATUS:CONFIRMED
URL:https://kulvio.de/event/3367
END:VEVENT
END:VCALENDAR
