BEGIN:VCALENDAR
VERSION:2.0
PRODID:-//Kulvio Event Calendar//kulvio.de//
CALSCALE:GREGORIAN
METHOD:PUBLISH
BEGIN:VEVENT
SUMMARY:Lichter Filmfest Frankfurt International
DTSTART:20260428T120000Z
DTEND:20260428T210000Z
DTSTAMP:20260423T030034Z
UID:kulvio-event-3368@kulvio.de
CATEGORIES:Filmfestival
CREATED:20260422T084741Z
DESCRIPTION:Das Lichter Filmfest Frankfurt International zeigt über 100 F
 ilme auf zehn Leinwänden im Festivalzentrum MASSIF E und weiteren Frankfu
 rter Kinos. Das Festival zählt zu den wichtigsten unabhängigen Filmfesti
 vals in Hessen und präsentiert Spiel-\, Dokumentar- und Kurzfilme aus all
 er Welt. Im Rahmenprogramm finden Filmgespräche\, Podiumsdiskussionen und
  Networking-Events statt. Das Festivalzentrum MASSIF E befindet sich an de
 r Zeil direkt an der Hauptwache.
GEO:50.115369;8.693728
LAST-MODIFIED:20260422T084846Z
LOCATION:MASSIF E\, Zeil 125\, 60313\, Frankfurt am Main
STATUS:CONFIRMED
URL:https://kulvio.de/event/3368
END:VEVENT
END:VCALENDAR
