BEGIN:VCALENDAR
VERSION:2.0
PRODID:-//Kulvio Event Calendar//kulvio.de//
CALSCALE:GREGORIAN
METHOD:PUBLISH
BEGIN:VEVENT
SUMMARY:Der Dompteur — Comedy Mixed Show
DTSTART:20260430T180000Z
DTEND:20260430T190000Z
DTSTAMP:20260423T022849Z
UID:kulvio-event-3374@kulvio.de
CATEGORIES:Comedy,Show
CREATED:20260422T084741Z
DESCRIPTION:Die Comedy Mixed Show des Dompteur e.V. findet in der Bar Pik 
 Dame im Frankfurter Bahnhofsviertel statt. Verschiedene Comedians treten m
 it Stand-up\, Sketch und Improvisations-Comedy auf der kleinen Bühne auf.
  Der Dompteur e.V. ist ein gemeinnütziger Verein\, der regelmäßig Kultu
 rveranstaltungen im Bahnhofsviertel organisiert. Der Abend richtet sich an
  alle Fans von Live-Comedy in intimer Baratmosphäre.
GEO:50.108939;8.667221
LAST-MODIFIED:20260422T084846Z
LOCATION:Pik Dame\, Elbestraße 31\, 60329\, Frankfurt am Main
STATUS:CONFIRMED
URL:https://kulvio.de/event/3374
END:VEVENT
END:VCALENDAR
