BEGIN:VCALENDAR
VERSION:2.0
PRODID:-//Kulvio Event Calendar//kulvio.de//
CALSCALE:GREGORIAN
METHOD:PUBLISH
BEGIN:VEVENT
SUMMARY:Mega MAIonnaise 2026 — Tanz in den Mai
DTSTART:20260430T190000Z
DTEND:20260501T020000Z
DTSTAMP:20260423T025948Z
UID:kulvio-event-3375@kulvio.de
CATEGORIES:Party,Club,Tanz
CREATED:20260422T084741Z
DESCRIPTION:Die Mega MAIonnaise ist die traditionelle Tanz-in-den-Mai-Part
 y in der VILCO Stadthalle Bad Vilbel. Auf drei Tanzflächen legen DJs Hits
  aus verschiedenen Genres auf\, darunter ein FFH-Just-Party-Floor. Über 3
 000 Gäste feiern gemeinsam den Vorabend des 1. Mai in der größten Halle
  der Stadt. Einlass ist ab 20:30 Uhr\, das Programm startet um 21 Uhr.
GEO:50.181982;8.738261
LAST-MODIFIED:20260422T084846Z
LOCATION:VILCO – Die Stadthalle Bad Vilbel\, Günther-Biwer-Platz 1\, 61
 118\, Bad Vilbel
STATUS:CONFIRMED
URL:https://kulvio.de/event/3375
END:VEVENT
END:VCALENDAR
