BEGIN:VCALENDAR
VERSION:2.0
PRODID:-//Kulvio Event Calendar//kulvio.de//
CALSCALE:GREGORIAN
METHOD:PUBLISH
BEGIN:VEVENT
SUMMARY:Freitagsfreunde im Karlson Club
DTSTART:20260501T203000Z
DTEND:20260501T213000Z
DTSTAMP:20260423T022549Z
UID:kulvio-event-3376@kulvio.de
CATEGORIES:Club,Party
CREATED:20260422T084741Z
DESCRIPTION:Die Freitagsfreunde feiern ihre Premiere am 1. Mai im Karlson 
 Club im Frankfurter Bahnhofsviertel. Die neue wöchentliche Partyreihe sta
 rtet jeden Freitag mit DJ-Musik und Drinks in der Karlstraße. Der Karlson
  Club bietet eine kompakte Tanzfläche mit gutem Soundsystem im Herzen des
  Viertels. Einlass ist ab 22:30 Uhr.
GEO:50.109695;8.663596
LAST-MODIFIED:20260422T084846Z
LOCATION:Karlson Club\, Karlstraße 17\, 60329\, Frankfurt am Main
STATUS:CONFIRMED
URL:https://kulvio.de/event/3376
END:VEVENT
END:VCALENDAR
