BEGIN:VCALENDAR
VERSION:2.0
PRODID:-//Kulvio Event Calendar//kulvio.de//
CALSCALE:GREGORIAN
METHOD:PUBLISH
BEGIN:VEVENT
SUMMARY:Data Centre World Frankfurt
DTSTART:20260506T070000Z
DTEND:20260506T150000Z
DTSTAMP:20260423T022548Z
UID:kulvio-event-3377@kulvio.de
CATEGORIES:Messe,Konferenz
CREATED:20260422T084741Z
DESCRIPTION:Die Data Centre World Frankfurt ist eine Fachmesse für die Re
 chenzentrumsbranche auf dem Messegelände Frankfurt. Aussteller präsentie
 ren Lösungen in den Bereichen Infrastruktur\, Kühlung\, Energieversorgun
 g und Cloud-Technologien. Fachbesucher können sich über aktuelle Trends 
 und Innovationen informieren und an Vorträgen teilnehmen. Der Eintritt zu
 r Messe ist für registrierte Fachbesucher kostenlos.
GEO:50.111846;8.650851
LAST-MODIFIED:20260422T084846Z
LOCATION:Festhalle Messe Frankfurt\, Ludwig-Erhard-Anlage 1\, 60327\, Fran
 kfurt am Main
STATUS:CONFIRMED
URL:https://kulvio.de/event/3377
END:VEVENT
END:VCALENDAR
