BEGIN:VCALENDAR
VERSION:2.0
PRODID:-//Kulvio Event Calendar//kulvio.de//
CALSCALE:GREGORIAN
METHOD:PUBLISH
BEGIN:VEVENT
SUMMARY:Wine is in the Air Festival
DTSTART:20260508T140000Z
DTEND:20260508T200000Z
DTSTAMP:20260423T025411Z
UID:kulvio-event-3379@kulvio.de
CATEGORIES:Tasting,Festival
CREATED:20260422T084741Z
DESCRIPTION:Das Wine is in the Air Festival verwandelt den MASSIFnativ an 
 der Eschersheimer Landstraße in eine Weinbar unter freiem Himmel. Winzer 
 aus verschiedenen Anbaugebieten präsentieren ihre Weine zum Probieren und
  Kaufen. Dazu gibt es ein kulinarisches Begleitprogramm und Livemusik. Das
  Festival richtet sich an Weinliebhaber und alle\, die den Frühling mit e
 inem guten Glas Wein genießen möchten.
GEO:50.120464;8.677884
LAST-MODIFIED:20260422T084846Z
LOCATION:MASSIFnaiv\, Eschersheimer Landstraße 28\, 60322\, Frankfurt am 
 Main
STATUS:CONFIRMED
URL:https://kulvio.de/event/3379
END:VEVENT
END:VCALENDAR
