BEGIN:VCALENDAR
VERSION:2.0
PRODID:-//Kulvio Event Calendar//kulvio.de//
CALSCALE:GREGORIAN
METHOD:PUBLISH
BEGIN:VEVENT
SUMMARY:Mama geht Tanzen — Muttertagsspecial
DTSTART:20260508T180000Z
DTEND:20260508T210000Z
DTSTAMP:20260423T023441Z
UID:kulvio-event-3381@kulvio.de
CATEGORIES:Party,Tanz
CREATED:20260422T084741Z
DESCRIPTION:Mama geht Tanzen feiert ein Muttertagsspecial im Cloud Seven C
 lub in Aschaffenburg. Die Partyreihe richtet sich speziell an Mütter\, di
 e einen Abend lang auf der Tanzfläche feiern möchten. Drei Stunden lang 
 sorgen DJs für Musik aus verschiedenen Genres. Das Event bietet eine ener
 giegeladene Atmosphäre in dem etablierten Club an der Würzburger Straße
 .
GEO:49.969418;9.163118
LAST-MODIFIED:20260422T084846Z
LOCATION:Cloud Seven\, Würzburger Straße 126\, 63739\, Aschaffenburg
STATUS:CONFIRMED
URL:https://kulvio.de/event/3381
END:VEVENT
END:VCALENDAR
