BEGIN:VCALENDAR
VERSION:2.0
PRODID:-//Kulvio Event Calendar//kulvio.de//
CALSCALE:GREGORIAN
METHOD:PUBLISH
BEGIN:VEVENT
SUMMARY:Matcha Pop Up im Move Reformer Studio
DTSTART:20260509T110000Z
DTEND:20260509T150000Z
DTSTAMP:20260423T022546Z
UID:kulvio-event-3382@kulvio.de
CATEGORIES:Brunch,Wellness
CREATED:20260422T084742Z
DESCRIPTION:Das Matcha Pop Up findet im Move Reformer Studio in der Hanaue
 r Innenstadt statt. Bei dem Event dreht sich alles um Matcha-Getränke und
  -Spezialitäten in stilvollem Ambiente. Das Move Reformer Studio in der S
 ternstraße bietet mit seinem modernen Interieur einen außergewöhnlichen
  Rahmen für das kulinarische Pop-up-Format. Das Event eignet sich für Ma
 tcha-Fans und alle\, die neue Genusserlebnisse suchen.
GEO:50.134388;8.914104
LAST-MODIFIED:20260422T084846Z
LOCATION:Move Reformer Studio\, Sternstraße 17\, 63450\, Hanau
STATUS:CONFIRMED
URL:https://kulvio.de/event/3382
END:VEVENT
END:VCALENDAR
