BEGIN:VCALENDAR
VERSION:2.0
PRODID:-//Kulvio Event Calendar//kulvio.de//
CALSCALE:GREGORIAN
METHOD:PUBLISH
BEGIN:VEVENT
SUMMARY:THE KING OF POP-ART — Romero Britto LIVE
DTSTART:20260426T090000Z
DTEND:20260426T160000Z
DTSTAMP:20260423T025439Z
UID:kulvio-event-3383@kulvio.de
CATEGORIES:Galerie,Ausstellung
CREATED:20260422T084742Z
DESCRIPTION:Die Galerie Mensing in der Frankfurter Kaiserstraße präsenti
 ert den brasilianisch-amerikanischen Künstler Romero Britto live vor Ort.
  Britto ist bekannt für seinen farbenfrohen Neo-Pop-Art-Stil und zählt z
 u den meistgesammelten Künstlern der Welt. Besucher können den Künstler
  persönlich treffen\, ihm bei der Arbeit zusehen und signierte Werke erwe
 rben. Die Veranstaltung richtet sich an Kunstinteressierte und Sammler.
GEO:50.110768;8.675842
LAST-MODIFIED:20260422T084846Z
LOCATION:Galerie Mensing\, Kaiserstraße 15\, 60311\, Frankfurt am Main
STATUS:CONFIRMED
URL:https://kulvio.de/event/3383
END:VEVENT
END:VCALENDAR
